BEGIN:VCALENDAR
VERSION:2.0
PRODID:Events Booking
BEGIN:VEVENT
UID:69eba997e780a
SUMMARY:30th Anniversary Townhall Meeting
DESCRIPTION:
 Our chapter is turning 30\,&nbsp\;and we want YOU at the tab
 le to help shape what the celebration should look like.
 You are invited 
 to join one of two virtual 30th Anniversary Think Tank Town Halls to help 
 shape the ideas\, plans\, and opportunities surrounding this milestone.
 
 Bring your perspective | Bring your creativity | Bring your pride in the c
 hapter.
DTSTART:20260427T160000Z
DTEND:20260427T170000Z
DTSTAMP:20260424T175426Z
ORGANIZER;CN=PMI SC Midlands Chapter:MAILTO:development@pmi-midlands.org
END:VEVENT
END:VCALENDAR