BEGIN:VCALENDAR
VERSION:2.0
PRODID:Events Booking
BEGIN:VEVENT
UID:69ebad617422c
SUMMARY:Spring 2026 PMP Study Group (Virtual)
DESCRIPTION:
 Do you want to earn your PMP before the exam changes on July
  9\, 2026?&nbsp\;Would you like the support of a group of like-minded peer
 s and mentors to help you on your journey?&nbsp\;If so\, then join our PMP
  Study Group starting on Monday\, March 30\, at 7:00 PM EDT. We are your c
 hapter\, your peers\, and your support!
DTSTART:20260330T230000Z
DTEND:20260519T003000Z
DTSTAMP:20260306T174508Z
ORGANIZER;CN=PMI SC Midlands Chapter:MAILTO:development@pmi-midlands.org
END:VEVENT
END:VCALENDAR