BEGIN:VCALENDAR
VERSION:2.0
PRODID:Events Booking
BEGIN:VEVENT
UID:69ebae254aed4
SUMMARY:April 2026 Chapter Meeting (Virtual)
DESCRIPTION:&nbsp\;
 Join us on Thursday\, April 16\, at 12:00 PM EDT as D
 avid P. Otey&nbsp\;presents \"The Story Factor: How Project Managers Influ
 ence Without Authority.\"&nbsp\;Learn&nbsp\;how to move your projects forw
 ard when you can't rely on a title.
DTSTART:20260416T160000Z
DTEND:20260416T170000Z
DTSTAMP:20260305T162910Z
ORGANIZER;CN=PMI SC Midlands Chapter:MAILTO:development@pmi-midlands.org
END:VEVENT
END:VCALENDAR